BEGIN:VCALENDAR
VERSION:2.0
PRODID:-//Cocoa River - ECPv6.8.3//NONSGML v1.0//EN
CALSCALE:GREGORIAN
METHOD:PUBLISH
X-WR-CALNAME:Cocoa River
X-ORIGINAL-URL:https://cocoariver.nl
X-WR-CALDESC:Evenementen voor Cocoa River
REFRESH-INTERVAL;VALUE=DURATION:PT1H
X-Robots-Tag:noindex
X-PUBLISHED-TTL:PT1H
BEGIN:VTIMEZONE
TZID:UTC
BEGIN:STANDARD
TZOFFSETFROM:+0000
TZOFFSETTO:+0000
TZNAME:UTC
DTSTART:20220101T000000
END:STANDARD
END:VTIMEZONE
BEGIN:VEVENT
DTSTART;TZID=UTC:20220910T133000
DTEND;TZID=UTC:20220910T141500
DTSTAMP:20260420T103542
CREATED:20220829T210613Z
LAST-MODIFIED:20220829T210613Z
UID:276-1662816600-1662819300@cocoariver.nl
SUMMARY:Uitmarkt Zaandam
DESCRIPTION:Omdat we de finale van Het Geluid van de Zaanstreek gewonnen hebben!
URL:https://cocoariver.nl/optreden/uitmarkt-zaandam/
END:VEVENT
END:VCALENDAR