BEGIN:VCALENDAR
VERSION:2.0
PRODID:-//Cocoa River - ECPv6.8.3//NONSGML v1.0//EN
CALSCALE:GREGORIAN
METHOD:PUBLISH
X-ORIGINAL-URL:https://cocoariver.nl
X-WR-CALDESC:Evenementen voor Cocoa River
REFRESH-INTERVAL;VALUE=DURATION:PT1H
X-Robots-Tag:noindex
X-PUBLISHED-TTL:PT1H
BEGIN:VTIMEZONE
TZID:UTC
BEGIN:STANDARD
TZOFFSETFROM:+0000
TZOFFSETTO:+0000
TZNAME:UTC
DTSTART:20230101T000000
END:STANDARD
END:VTIMEZONE
BEGIN:VEVENT
DTSTART;TZID=UTC:20230826T130000
DTEND;TZID=UTC:20230826T170000
DTSTAMP:20260419T143926
CREATED:20221108T163208Z
LAST-MODIFIED:20221108T163208Z
UID:425-1693054800-1693069200@cocoariver.nl
SUMMARY:Wilhelmina Park 125 jaar
DESCRIPTION:Met optredens van Wolter Kroes en Cocoa River.
URL:https://cocoariver.nl/optreden/wilhelmina-park-125-jaar/
LOCATION:Wilhelmina Park\, Wandelweg 53\, Wormerveer\, 1521AB\, Nederland
END:VEVENT
END:VCALENDAR